BEGIN:VCALENDAR
VERSION:2.0
PRODID:-//ChamberMaster//Event Calendar 2.0//EN
METHOD:PUBLISH
X-PUBLISHED-TTL:P3D
REFRESH-INTERVAL:P3D
CALSCALE:GREGORIAN
BEGIN:VEVENT
DTSTART:20231015T180000Z
DTEND:20231015T190000Z
X-MICROSOFT-CDO-ALLDAYEVENT:FALSE
SUMMARY:Wolves At Our Door
DESCRIPTION:Wolves at Our Door Wolves and humans have a complicated relationship\, and where they live together conflict often follows. This program addresses the nature of these conflicts and the role wildlands play in this relationship. By discussing the myths and misinformation that have contributed to fear and misunderstanding of wolves\, we will explore ways we can work toward a goal of co-existence. This is a virtual program presented by the International Wolf Center in conjunction with the traveling wolf exhibit that will be at the Hurstville Center October 14 - November 4th. To join us you can log on at (be sure you have ZOOM) Wolves At Our Door program October 15 @ 1:00pm CT: https://us02web.zoom.us/j/89021323807 Or everyone is welcome to view it at the Hurstville Center\, we'll put the program up on the projector in the community room. Length: 45   60 minutes
X-ALT-DESC;FMTTYPE=text/html:Wolves at Our Door Wolves and humans have a complicated relationship\, and where they live together conflict often follows. This program addresses the nature of these conflicts and the role wildlands play in this relationship. By discussing the myths and misinformation that have contributed to fear and misunderstanding of wolves\, we will explore ways we can work toward a goal of co-existence. This is a virtual program presented by the International Wolf Center in conjunction with the traveling wolf exhibit that will be at the Hurstville Center October 14 - November 4th. To join us you can log on at (be sure you have ZOOM) Wolves At Our Door program October 15 @ 1:00pm CT: https://us02web.zoom.us/j/89021323807 Or everyone is welcome to view it at the Hurstville Center\, we&#39\;ll put the program up on the projector in the community room. Length: 45 &ndash\; 60 minutes
LOCATION:Virtually or at the Hurstville Interpretive Center
UID:e.3007.15455
SEQUENCE:3
DTSTAMP:20260423T094552Z
URL:https://chamber.maquoketachamber.com/events/details/wolves-at-our-door-15455
END:VEVENT

END:VCALENDAR
