BEGIN:VCALENDAR
VERSION:2.0
PRODID:-//ChamberMaster//Event Calendar 2.0//EN
METHOD:PUBLISH
X-PUBLISHED-TTL:P3D
REFRESH-INTERVAL:P3D
CALSCALE:GREGORIAN
BEGIN:VEVENT
DTSTART:20230806T000000Z
DTEND:20230807T010000Z
X-MICROSOFT-CDO-ALLDAYEVENT:FALSE
SUMMARY:Willy Wonka Jr.at OFAC
DESCRIPTION:The Ohnward Auditions for\n\nWilly Wonka\, Jr.\n\nAugust 5 at 7:00 PM\n\nAnd August 6 at 2:00 PM\n\nThis show will be directed by Ohnward Fine Arts Centers executive director Richard Hall. Music direction by Linda Polk. Piano accompanist will be Jenna Junge and chorography by Mandi Kuster and Ella Lempke.\n\n \n\nThe delicious adventures of Willy Wonka's chocolate factory light up the stage in this captivating adaptation of Roald Dahl's fantastical tale. Featuring the enchanting songs from the 1971 film\, in addition to a host of fun new songs\, Roald Dahl's Willy Wonka JR. is a scrumdidilyumptious musical guaranteed to delight everyone's sweet tooth.\n\nRoald Dahl's Willy Wonka JR. follows enigmatic candy manufacturer Willy Wonka as he stages a contest by hiding golden tickets in five of his scrumptious candy bars. Whomever comes up with these tickets will win a free tour of the Wonka factory\, as well as a lifetime supply of candy. Four of the five winning children are insufferable brats\, but the fifth is a likeable young lad named Charlie Bucket\, who takes the tour in the company of his equally amiable grandfather. The children must learn to follow Mr. Wonka's rules in the factory ? or suffer the consequences.
X-ALT-DESC;FMTTYPE=text/html:<p style="color: rgb(0\, 0\, 0)\; font-family: &quot\;Times New Roman&quot\;\; font-size: medium\;"><span style="font-family:comic sans ms\;"><span style="font-size:20px\;"><strong>The Ohnward&nbsp\;</strong></span></span><strong style="font-size: 20px\; font-family: &quot\;comic sans ms&quot\;\;">Auditions for</strong></p>\n\n<p style="color: rgb(0\, 0\, 0)\; font-family: &quot\;Times New Roman&quot\;\; font-size: medium\;"><span style="font-family:comic sans ms\;"><span style="font-size:20px\;"><strong>Willy Wonka\, Jr.</strong></span></span></p>\n\n<p style="color: rgb(0\, 0\, 0)\; font-family: &quot\;Times New Roman&quot\;\; font-size: medium\;"><strong><span style="font-family:comic sans ms\;"><span style="font-size:22px\;">August 5 at 7:00 PM</span></span></strong></p>\n\n<p style="color: rgb(0\, 0\, 0)\; font-family: &quot\;Times New Roman&quot\;\; font-size: medium\;"><strong><span style="font-family:comic sans ms\;"><span style="font-size:22px\;">And August 6 at 2:00 PM</span></span></strong></p>\n\n<p style="color: rgb(0\, 0\, 0)\; font-family: &quot\;Times New Roman&quot\;\; font-size: medium\;">This show will be directed by Ohnward Fine Arts Centers executive director Richard Hall. Music direction by Linda Polk. Piano accompanist will be Jenna Junge and chorography by Mandi Kuster and Ella Lempke.</p>\n\n<p style="color: rgb(0\, 0\, 0)\; font-family: &quot\;Times New Roman&quot\;\; font-size: medium\;">&nbsp\;</p>\n\n<p style="color: rgb(0\, 0\, 0)\; font-family: &quot\;Times New Roman&quot\;\; font-size: medium\;">The delicious adventures of Willy Wonka&#39\;s chocolate factory light up the stage in this captivating adaptation of Roald Dahl&#39\;s fantastical tale. Featuring the enchanting songs from the 1971 film\, in addition to a host of fun new songs\, Roald Dahl&#39\;s Willy Wonka JR. is a scrumdidilyumptious musical guaranteed to delight everyone&#39\;s sweet tooth.</p>\n\n<p style="color: rgb(0\, 0\, 0)\; font-family: &quot\;Times New Roman&quot\;\; font-size: medium\;">Roald Dahl&#39\;s Willy Wonka JR. follows enigmatic candy manufacturer Willy Wonka as he stages a contest by hiding golden tickets in five of his scrumptious candy bars. Whomever comes up with these tickets will win a free tour of the Wonka factory\, as well as a lifetime supply of candy. Four of the five winning children are insufferable brats\, but the fifth is a likeable young lad named Charlie Bucket\, who takes the tour in the company of his equally amiable grandfather. The children must learn to follow Mr. Wonka&#39\;s rules in the factory ? or suffer the consequences.</p>\n
LOCATION:Ohnward Fine Arts Center 1215 E. Platt St. Maquoketa\, IA 52060
UID:e.3007.15258
SEQUENCE:3
DTSTAMP:20260421T074439Z
URL:https://chamber.maquoketachamber.com/events/details/willy-wonka-jr-at-ofac-15258
END:VEVENT

END:VCALENDAR
