BEGIN:VCALENDAR
VERSION:2.0
PRODID:-//ChamberMaster//Event Calendar 2.0//EN
METHOD:PUBLISH
X-PUBLISHED-TTL:P3D
REFRESH-INTERVAL:P3D
CALSCALE:GREGORIAN
BEGIN:VEVENT
DTSTART:20230705T150000Z
DTEND:20230705T170000Z
X-MICROSOFT-CDO-ALLDAYEVENT:FALSE
SUMMARY:Willy Wonka Auditions at OFAC
DESCRIPTION:The Ohnward Fine Arts Center\n\nMaquoketa\, IA\n\nPresent\n\nAuditions for\n\nWilly Wonka\, Jr.\n\n \n\nAugust 5 at 7:00 PM\n\nAnd August 6 at 2:00 PM\n\nOhnward Fine Arts Center\n\n \n\nThe Ohnward Fine Arts Center is will be holding auditions for Willy Wonka Jr\, on Thursday\, June 29 from 10 AM until noon\, and again from 1 PM until 2 PM at the Ohnward Fine Arts Center. Students from ages 8 (or going into 2nd grade) through 18 can audition for this show. Both male and females are invited to audition. The cost for kids to participate is $50. For families with more than one child the cost will be $50 for first child\, $25 for second and $15 for child number 3 and more. A limited number of no cost or low cost scholarships are available. Please contact the Ohnward Fine Arts Center for more information on the scholarship program. All performers are allowed to keep all rehearsal materials.\n\n \n\nThis show will be directed by Ohnward Fine Arts Centers executive director Richard Hall. Music direction by Linda Polk. Piano accompanist will be Jenna Junge and chorography by Mandi Kuster and Ella Lempke.\n\n \n\nRehearsals are Monday through Friday from 10 AM until noon. We will not rehearse on any weekends. Rehearsals will start for everyone on Wednesday\, July 5 and run through August 4. If your child is in the show you will need to check the Ohnward Fine Arts Center Facebook page DAILY so you are aware of rehearsal changes. Every child will not need to be at every rehearsal every day.\n\n \n\nThe delicious adventures of Willy Wonka's chocolate factory light up the stage in this captivating adaptation of Roald Dahl's fantastical tale. Featuring the enchanting songs from the 1971 film\, in addition to a host of fun new songs\, Roald Dahl's Willy Wonka JR. is a scrumdidilyumptious musical guaranteed to delight everyone's sweet tooth.\n\nRoald Dahl's Willy Wonka JR. follows enigmatic candy manufacturer Willy Wonka as he stages a contest by hiding golden tickets in five of his scrumptious candy bars. Whomever comes up with these tickets will win a free tour of the Wonka factory\, as well as a lifetime supply of candy. Four of the five winning children are insufferable brats\, but the fifth is a likeable young lad named Charlie Bucket\, who takes the tour in the company of his equally amiable grandfather. The children must learn to follow Mr. Wonka's rules in the factory ? or suffer the consequences.\n\n\n\n \n\nFor questions please call the Ohnward Fine Arts Center at 566-652-9815 or email Richard Hall at Director@ohnwardfineartscenter.com.\n\n \n\nWilly Wonka\, Jr. will have two public performances on Saturday August 5 at 7 PM and Sunday August 6 at 2 PM. Tickets for the public performances will be $12.00 for adults and $8.00 for students. If purchased at the door on the day of the performances tickets will be $15 for adults and $10.00 for students Tickets can also be purchased at The Ohnward Fine Arts Center (from 9:00 am   1:00 pm call 563-652-9815).\n\nFor questions please call the Ohnward Fine Arts Center at 566-652-9815 or email Richard Hall at Director@ohnwardfineartscenter.com.\n\nWilly Wonka\, Jr. will have two public performances on Saturday August 5 at 7 PM and Sunday August 6 at 2 PM. Tickets for the public performances will be $12.00 for adults and $8.00 for students. If purchased at the door on the day of the performances tickets will be $15 for adults and $10.00 for students Tickets can also be purchased at The Ohnward Fine Arts Center (from 9:00 am   1:00 pm call 563-652-9815).\n\nThe shows approximate runtime is one hour
X-ALT-DESC;FMTTYPE=text/html:<p font-size:="" new="" style="color: rgb(0\, 0\, 0)\; font-family: " times=""><span style="font-family:comic sans ms\;"><span style="font-size:20px\;"><strong>The Ohnward Fine Arts Center</strong></span></span></p>\n\n<p font-size:="" new="" style="color: rgb(0\, 0\, 0)\; font-family: " times=""><span style="font-family:comic sans ms\;"><span style="font-size:20px\;"><strong>Maquoketa\, IA</strong></span></span></p>\n\n<p font-size:="" new="" style="color: rgb(0\, 0\, 0)\; font-family: " times=""><span style="font-family:comic sans ms\;"><span style="font-size:20px\;"><strong>Present</strong></span></span></p>\n\n<p font-size:="" new="" style="color: rgb(0\, 0\, 0)\; font-family: " times=""><span style="font-family:comic sans ms\;"><span style="font-size:20px\;"><strong>Auditions for</strong></span></span></p>\n\n<p font-size:="" new="" style="color: rgb(0\, 0\, 0)\; font-family: " times=""><span style="font-family:comic sans ms\;"><span style="font-size:20px\;"><strong>Willy Wonka\, Jr.</strong></span></span></p>\n\n<p font-size:="" new="" style="color: rgb(0\, 0\, 0)\; font-family: " times="">&nbsp\;</p>\n\n<p font-size:="" new="" style="color: rgb(0\, 0\, 0)\; font-family: " times=""><strong><span style="font-size:22px\;"><span style="font-family:comic sans ms\;">August 5 at 7:00 PM</span></span></strong></p>\n\n<p font-size:="" new="" style="color: rgb(0\, 0\, 0)\; font-family: " times=""><strong><span style="font-size:22px\;"><span style="font-family:comic sans ms\;">And August 6 at 2:00 PM<br />\nOhnward Fine Arts Center</span></span></strong></p>\n\n<p font-size:="" new="" style="color: rgb(0\, 0\, 0)\; font-family: " times="">&nbsp\;</p>\n\n<p font-size:="" new="" style="color: rgb(0\, 0\, 0)\; font-family: " times="">The Ohnward Fine Arts Center is will be holding auditions for Willy Wonka Jr\, on Thursday\, June 29 from 10 AM until noon\, and again from 1 PM until 2 PM at the Ohnward Fine Arts Center. Students from ages 8 (or going into 2nd grade) through 18 can audition for this show. Both male and females are invited to audition. The cost for kids to participate is $50. For families with more than one child the cost will be $50 for first child\, $25 for second and $15 for child number 3 and more. A limited number of no cost or low cost scholarships are available. Please contact the Ohnward Fine Arts Center for more information on the scholarship program. All performers are allowed to keep all rehearsal materials.</p>\n\n<p font-size:="" new="" style="color: rgb(0\, 0\, 0)\; font-family: " times="">&nbsp\;</p>\n\n<p font-size:="" new="" style="color: rgb(0\, 0\, 0)\; font-family: " times="">This show will be directed by Ohnward Fine Arts Centers executive director Richard Hall. Music direction by Linda Polk. Piano accompanist will be Jenna Junge and chorography by Mandi Kuster and Ella Lempke.</p>\n\n<p font-size:="" new="" style="color: rgb(0\, 0\, 0)\; font-family: " times="">&nbsp\;</p>\n\n<p font-size:="" new="" style="color: rgb(0\, 0\, 0)\; font-family: " times="">Rehearsals are Monday through Friday from 10 AM until noon. We will not rehearse on any weekends. Rehearsals will start for everyone on Wednesday\, July 5 and run through August 4. If your child is in the show you will need to check the Ohnward Fine Arts Center Facebook page DAILY so you are aware of rehearsal changes. Every child will not need to be at every rehearsal every day.</p>\n\n<p font-size:="" new="" style="color: rgb(0\, 0\, 0)\; font-family: " times="">&nbsp\;</p>\n\n<p font-size:="" new="" style="color: rgb(0\, 0\, 0)\; font-family: " times="">The delicious adventures of Willy Wonka&#39\;s chocolate factory light up the stage in this captivating adaptation of Roald Dahl&#39\;s fantastical tale. Featuring the enchanting songs from the 1971 film\, in addition to a host of fun new songs\, Roald Dahl&#39\;s Willy Wonka JR. is a scrumdidilyumptious musical guaranteed to delight everyone&#39\;s sweet tooth.</p>\n\n<p font-size:="" new="" style="color: rgb(0\, 0\, 0)\; font-family: " times="">Roald Dahl&#39\;s Willy Wonka JR. follows enigmatic candy manufacturer Willy Wonka as he stages a contest by hiding golden tickets in five of his scrumptious candy bars. Whomever comes up with these tickets will win a free tour of the Wonka factory\, as well as a lifetime supply of candy. Four of the five winning children are insufferable brats\, but the fifth is a likeable young lad named Charlie Bucket\, who takes the tour in the company of his equally amiable grandfather. The children must learn to follow Mr. Wonka&#39\;s rules in the factory ? or suffer the consequences.<br />\n<br />\n&nbsp\;</p>\n\n<p style="color: rgb(0\, 0\, 0)\; font-family: &quot\;Times New Roman&quot\;\; font-size: medium\;">For questions please call the Ohnward Fine Arts Center at 566-652-9815 or email Richard Hall at Director@ohnwardfineartscenter.com.</p>\n\n<p style="color: rgb(0\, 0\, 0)\; font-family: &quot\;Times New Roman&quot\;\; font-size: medium\;">&nbsp\;</p>\n\n<p style="color: rgb(0\, 0\, 0)\; font-family: &quot\;Times New Roman&quot\;\; font-size: medium\;">Willy Wonka\, Jr. will have two public performances on Saturday August 5 at 7 PM and Sunday August 6 at 2 PM. Tickets for the public performances will be $12.00 for adults and $8.00 for students. If purchased at the door on the day of the performances tickets will be $15 for adults and $10.00 for students Tickets can also be purchased at The Ohnward Fine Arts Center (from 9:00 am &ndash\; 1:00 pm call 563-652-9815).</p>\n\n<p style="color: rgb(0\, 0\, 0)\; font-family: &quot\;Times New Roman&quot\;\; font-size: medium\;">For questions please call the Ohnward Fine Arts Center at 566-652-9815 or email Richard Hall at Director@ohnwardfineartscenter.com.</p>\n\n<p style="color: rgb(0\, 0\, 0)\; font-family: &quot\;Times New Roman&quot\;\; font-size: medium\;">Willy Wonka\, Jr. will have two public performances on Saturday August 5 at 7 PM and Sunday August 6 at 2 PM. Tickets for the public performances will be $12.00 for adults and $8.00 for students. If purchased at the door on the day of the performances tickets will be $15 for adults and $10.00 for students Tickets can also be purchased at The Ohnward Fine Arts Center (from 9:00 am &ndash\; 1:00 pm call 563-652-9815).</p>\n\n<p style="color: rgb(0\, 0\, 0)\; font-family: &quot\;Times New Roman&quot\;\; font-size: medium\;">The shows approximate runtime is one hour<br />\n<br />\n&nbsp\;</p>\n
LOCATION:Ohnward Fine Arts Center 1215 E. Platt St. Maquoketa\, IA 52060
UID:e.3007.15245
SEQUENCE:3
DTSTAMP:20260421T060854Z
URL:https://chamber.maquoketachamber.com/events/details/willy-wonka-auditions-at-ofac-15245
END:VEVENT

END:VCALENDAR
