BEGIN:VCALENDAR
VERSION:2.0
PRODID:-//ChamberMaster//Event Calendar 2.0//EN
METHOD:PUBLISH
X-PUBLISHED-TTL:P3D
REFRESH-INTERVAL:P3D
CALSCALE:GREGORIAN
BEGIN:VEVENT
DTSTART:20230906T210000Z
DTEND:20230906T223000Z
X-MICROSOFT-CDO-ALLDAYEVENT:FALSE
SUMMARY:Wednesdays are possible -Entrepreneurship
DESCRIPTION:Wednesday are possible.\n\nFirst Wednesday of Every Month\n\n4:00 - 5:30 PM\n\nA monthly conversation about entrepreneurship. Do you have a side hustle\, a new idea\, a lifelong dreams? Join others like-minded individuals for support and resources to start\, what could be\, your next big thing.\n\n\n\nOur Guest this month is Heather Moore who is a locally-focused\, agricultural community business leader. Moore Local connects farms to people.
X-ALT-DESC;FMTTYPE=text/html:<span style="font-size:20px\;">Wednesday are possible.<br />\nFirst Wednesday of Every Month<br />\n4:00 - 5:30 PM<br />\nA monthly conversation about entrepreneurship. Do you have a side hustle\, a new idea\, a lifelong dreams? Join others like-minded individuals for support and resources to start\, what could be\, your next big thing.<br />\n<br />\nOur Guest this month is Heather Moore who is a locally-focused\, agricultural community business leader. Moore Local connects farms to people.</span>
LOCATION:This month's Location Innovate 120 120 South Main St Maquoketa\, IA 52060
UID:e.3007.15441
SEQUENCE:3
DTSTAMP:20260423T082923Z
URL:https://chamber.maquoketachamber.com/events/details/wednesdays-are-possible-entrepreneurship-09-06-2023-15441
END:VEVENT

END:VCALENDAR
