BEGIN:VCALENDAR
VERSION:2.0
PRODID:-//ChamberMaster//Event Calendar 2.0//EN
METHOD:PUBLISH
X-PUBLISHED-TTL:P3D
REFRESH-INTERVAL:P3D
CALSCALE:GREGORIAN
BEGIN:VEVENT
DTSTART:20230916T130000Z
DTEND:20230916T170000Z
X-MICROSOFT-CDO-ALLDAYEVENT:FALSE
SUMMARY:Walk to End Alzheimer's
DESCRIPTION:Families facing Alzheimer's and all other dementia need us now more than ever - and with your help\, we can be there for them. Every dollar you raise thought Walk allows the Alzheimer's Association to provide 24/7 care and support while accelerating critical research.
X-ALT-DESC;FMTTYPE=text/html:<span class="x193iq5w xeuugli x13faqbe x1vvkbs x1xmvt09 x1lliihq x1s928wv xhkezso x1gmr53x x1cpjm7i x1fgarty x1943h6x xudqn12 x3x7a5m x6prxxf xvq8zen xo1l8bm xzsf02u" dir="auto">Families facing Alzheimer&#39\;s and all other dementia need us now more than ever - and with your help\, we can be there for them. Every dollar you raise thought Walk allows the Alzheimer&#39\;s Association to provide 24/7 care and support while accelerating critical research. </span>
LOCATION:Maquoketa Area Family YMCA 500 E Summit St Maquoketa\, IA 52060
UID:e.3007.15439
SEQUENCE:3
DTSTAMP:20260423T082529Z
URL:https://chamber.maquoketachamber.com/events/details/walk-to-end-alzheimer-s-15439
END:VEVENT

END:VCALENDAR
