BEGIN:VCALENDAR
VERSION:2.0
PRODID:-//ChamberMaster//Event Calendar 2.0//EN
METHOD:PUBLISH
X-PUBLISHED-TTL:P3D
REFRESH-INTERVAL:P3D
CALSCALE:GREGORIAN
BEGIN:VEVENT
DTSTART:20230503T210000Z
DTEND:20230504T000000Z
X-MICROSOFT-CDO-ALLDAYEVENT:FALSE
SUMMARY:Versus Food Truck!
DESCRIPTION:It's everyone's favorite day of the week! Stop by today\, May 3rd\, as Versus serves up some delicious food!
X-ALT-DESC;FMTTYPE=text/html:<div style="text-align:right">\n<p style="text-align: left\;"><span style="font-size:17px">It&rsquo\;s everyone&#39\;s favorite day of the week!</span><span style="color:rgb(5\, 5\, 5)"><span style="font-size:17px"> Stop by today\, May 3rd\, as</span></span><span style="font-size:17px"> </span><span style="font-size:17px"><span style="color:#000000">Versus</span><span style="color:rgb(253\, 123\, 3)"><span style="font-size:17px"> </span></span>serves up some delicious food!</span></p>\n</div>\n\n<table border="0" cellpadding="0" cellspacing="0" style="background-color:transparent\; border-collapse:collapse\; color:rgb(0\, 0\, 0)\; font-family:times new roman\; font-size:medium\; text-size-adjust:100%\; width:100%">\n	<tbody>\n		<tr>\n		</tr>\n	</tbody>\n</table>\n
LOCATION:Maquoketa Brewing.
UID:e.3007.15095
SEQUENCE:3
DTSTAMP:20260421T060958Z
URL:https://chamber.maquoketachamber.com/events/details/versus-food-truck-15095
END:VEVENT

END:VCALENDAR
