BEGIN:VCALENDAR
VERSION:2.0
PRODID:-//ChamberMaster//Event Calendar 2.0//EN
METHOD:PUBLISH
X-PUBLISHED-TTL:P3D
REFRESH-INTERVAL:P3D
CALSCALE:GREGORIAN
BEGIN:VEVENT
DTSTART:20231027T223000Z
DTEND:20231028T000000Z
X-MICROSOFT-CDO-ALLDAYEVENT:FALSE
SUMMARY:Trunk or Treat @ the Y
DESCRIPTION:Contact Reba Bellings for more informatio at  rbellings@ymcaimv.org.
X-ALT-DESC;FMTTYPE=text/html:Contact Reba Bellings for more informatio at&nbsp\; <a href="mailto:rbellings@ymcaimv.org">rbellings@ymcaimv.org</a>.<br />\n&nbsp\;<br />\n&nbsp\;
LOCATION:Maquoketa Area YMCA 500 E Summit St Maquoketa\, IA 52060
UID:e.3007.15440
SEQUENCE:3
DTSTAMP:20260423T094648Z
URL:https://chamber.maquoketachamber.com/events/details/trunk-or-treat-the-y-15440
END:VEVENT

END:VCALENDAR
