BEGIN:VCALENDAR
VERSION:2.0
PRODID:-//ChamberMaster//Event Calendar 2.0//EN
METHOD:PUBLISH
X-PUBLISHED-TTL:P3D
REFRESH-INTERVAL:P3D
CALSCALE:GREGORIAN
BEGIN:VEVENT
DTSTART:20231013T140000Z
DTEND:20231031T210000Z
X-MICROSOFT-CDO-ALLDAYEVENT:FALSE
SUMMARY:Traveling Wolf Exhibit
DESCRIPTION:The International Wolf Center is proud to offer a traveling exhibit called Wolves and Wild Lands. The exhibit is perfect for natural history museums\, zoos\, academic institutions and libraries. The exhibit brings the compelling stories of wolves and their relationship with humans to museums and other institutions nationwide. Wolves and Wild Lands is composed of six preserved taxidermy specimens\, each presented in its human and natural-history context. This exhibit will be at the Hurstville Interpretive Center October 13 - October 31\, 2023. It is free to visit the center and see the exhibit\, open during our regular hours of M-F 8:00am to 4:00pm and weekends 12:00-4:00pm.
X-ALT-DESC;FMTTYPE=text/html:The International Wolf Center is proud to offer a traveling exhibit called Wolves and Wild Lands. The exhibit is perfect for natural history museums\, zoos\, academic institutions and libraries. The exhibit brings the compelling stories of wolves and their relationship with humans to museums and other institutions nationwide. Wolves and Wild Lands is composed of six preserved taxidermy specimens\, each presented in its human and natural-history context. This exhibit will be at the Hurstville Interpretive Center October 13 - October 31\, 2023. It is free to visit the center and see the exhibit\, open during our regular hours of M-F 8:00am to 4:00pm and weekends 12:00-4:00pm.
LOCATION:Hurstville Interpretive Center 18670 63rd St. Maquoketa IA
UID:e.3007.15454
SEQUENCE:3
DTSTAMP:20260423T095318Z
URL:https://chamber.maquoketachamber.com/events/details/traveling-wolf-exhibit-15454
END:VEVENT

END:VCALENDAR
