BEGIN:VCALENDAR
VERSION:2.0
PRODID:-//ChamberMaster//Event Calendar 2.0//EN
METHOD:PUBLISH
X-PUBLISHED-TTL:P3D
REFRESH-INTERVAL:P3D
CALSCALE:GREGORIAN
BEGIN:VEVENT
DTSTART:20230510T210000Z
DTEND:20230511T000000Z
X-MICROSOFT-CDO-ALLDAYEVENT:FALSE
SUMMARY:Simba's Dog Palace Food Truck!
DESCRIPTION:It's everyone's favorite day of the week! Stop by\, May 10th\, as Simba's Dog Palace serves up some delicious food!
X-ALT-DESC;FMTTYPE=text/html:<span style="color:rgb(66\, 66\, 66)\; font-family:arial\,helvetica\,sans-serif\; font-size:17px">It&rsquo\;s everyone&#39\;s favorite day of the week!</span><span style="color:rgb(5\, 5\, 5)\; font-family:arial\,helvetica\,sans-serif\; font-size:12px"><span style="font-size:17px">&nbsp\;Stop by\, May 10th\, as</span></span><span style="color:rgb(66\, 66\, 66)\; font-family:arial\,helvetica\,sans-serif\; font-size:17px">&nbsp\;</span><span style="font-family:arial\,helvetica\,sans-serif\; font-size:17px"><font color="#000000">Simba&#39\;s Dog Palace</font></span><span style="color:rgb(66\, 66\, 66)\; font-family:arial\,helvetica\,sans-serif\; font-size:17px"><span style="color:rgb(253\, 123\, 3)">&nbsp\;</span>serves up some delicious food!</span>
LOCATION:Maquoketa Brewing
UID:e.3007.15229
SEQUENCE:3
DTSTAMP:20260421T075410Z
URL:https://chamber.maquoketachamber.com/events/details/simba-s-dog-palace-food-truck-15229
END:VEVENT

END:VCALENDAR
