BEGIN:VCALENDAR
VERSION:2.0
PRODID:-//ChamberMaster//Event Calendar 2.0//EN
METHOD:PUBLISH
X-PUBLISHED-TTL:P3D
REFRESH-INTERVAL:P3D
CALSCALE:GREGORIAN
BEGIN:VEVENT
DTSTART:20230521T000000Z
DTEND:20230521T020000Z
X-MICROSOFT-CDO-ALLDAYEVENT:FALSE
SUMMARY:Shindig 2023 at OFAC
DESCRIPTION:Ohnward Fine Arts Center presents:\nShindig!\n\nA Tribute to the 60's\n\nSaturday May 20\, 2023 at 7 PM\n\n\n\nSHiNDiG! A Tribute to the '60s always delivers an entertaining trip back to the greatest and most diverse decade of rock and roll music. Covering over 90 different bands from that period in time where music told the story of an entire generation  -  Early '60s\, British Invasion\, Psychedelic\, Pop\, Girl Groups\, Woodstock...are all part of the show! The unique\, period costumes of the band mirrors each set of music it delivers\, bringing to the audience that feeling of being immersed in the 1960s music scene.\n\n\n\nFeaturing songs by The Beatles\, The Beach Boys\, The Monkees\, The Rolling Stones\, The Supremes\,  Herman's Hermits\,  Cryan' Shames\,  The Mamas and the Papas\, Sonny and Cher and the best 'girl groups'\, SHiNDiG! recreates "true to the originals" renditions of the 45's played on AM radio during this decade of great music.  And the unique\, period look of the band mirrors each set of music that they deliver adding to that feeling of being immersed in the '60s music scene!\n\n \n\n"You all put on a terrific show and loved all the songs. We sure hope you return to Kewanee. It was so much fun singing all those 60's songs." Donna (Kewanee)\n\n\n\n"Great band! You can sing along with every song and the memories are great! Good time every time we have seen them" Mark (Crest Hill)\n\n \n\nTickets   In Advance: Adults $22 Students $13 \n\nAt door: Adults $25 Students $15  \n\n \n\nTickets can also be purchased at The Ohnward Fine Arts Center 563-652-9815 (from 9:00 am   1:00 pm Monday - Friday)\, Osterhaus Pharmacy\, both Maquoketa State Banks in Maquoketa\, Hartig Drug in Preston and Bellevue.\n\n \n\nTickets are also available on line at www.ohnwardfineartscenter.com.\n\nThe show runs approximately 2 hours.
X-ALT-DESC;FMTTYPE=text/html:Ohnward Fine Arts Center presents:\n<p style="color: rgb(0\, 0\, 0)\; font-family: &quot\;Times New Roman&quot\;\; font-size: medium\;"><strong><span style="color:red\;"><span style="font-size:28.0pt\;">Shindig!</span></span></strong><br />\n<strong><span style="color:red\;"><span style="font-size:28.0pt\;">A Tribute to the 60&rsquo\;s</span></span></strong><br />\n<strong><span style="font-size:20.0pt\;">Saturday May 20\, 2023 at 7 PM</span></strong><br />\n<br />\n<strong>SHiNDiG! A Tribute to the &#39\;60s </strong>always delivers an entertaining trip back to the greatest and most diverse decade of rock and roll music. Covering over 90 different bands from that period in time where music told the story of an entire generation &nbsp\;- &nbsp\;Early &#39\;60s\, British Invasion\, Psychedelic\, Pop\, Girl Groups\, Woodstock...are all part of the show! The unique\, period costumes of the band mirrors each set of music it delivers\, bringing to the audience that feeling of being immersed in the 1960s music scene.<br />\n<br />\nFeaturing songs by The Beatles\, The Beach Boys\, The Monkees\, The Rolling Stones\, The Supremes\,&nbsp\; Herman&#39\;s Hermits\,&nbsp\; Cryan&#39\; Shames\,&nbsp\; The Mamas and the Papas\, Sonny and Cher and the best &#39\;girl groups&#39\;\, SHiNDiG! recreates &quot\;true to the originals&quot\; renditions of the 45&#39\;s played on AM radio during this decade of great music.&nbsp\; And the unique\, period look of the band mirrors each set of music that they deliver adding to that feeling of being immersed in the &#39\;60s music scene!<br />\n&nbsp\;<br />\n<strong><em><span style="color:black\;">&quot\;You all put on a terrific show and loved all the songs. We sure hope you return to Kewanee. It was so much fun singing all those 60&#39\;s songs.&quot\; Donna (Kewanee)</span></em></strong><br />\n<br />\n<strong><em><span style="color:black\;">&quot\;Great band! You can sing along with every song and the memories are great! Good time every time we have seen them&rdquo\; Mark (Crest Hill)</span></em></strong><br />\n&nbsp\;<br />\n<strong><span style="font-size:11.0pt\;">Tickets &ndash\; In Advance: Adults $22 Students $13 </span></strong><br />\n<strong><span style="font-size:11.0pt\;">At door: Adults $25 Students $15&nbsp\; </span></strong><br />\n&nbsp\;<br />\n<strong><span style="color:black\;">Tickets can also be purchased at</span></strong><span style="color:black\;"> The Ohnward Fine Arts Center 563-652-9815 (<em>from 9:00 am &ndash\; 1:00 pm Monday - Friday</em>)\, Osterhaus Pharmacy\, both Maquoketa State Banks in Maquoketa\, Hartig Drug in Preston and Bellevue.</span><br />\n&nbsp\;<br />\nTickets are also available on line at <a href="http://www.ohnwardfineartscenter.com/"><strong><span style="text-decoration:none\;text-underline:none\;"><span style="color:black\;">www.ohnwardfineartscenter.com</span></span></strong></a>.<br />\n<strong>The show runs approximately 2 hours.&nbsp\; &nbsp\; &nbsp\; &nbsp\; &nbsp\; &nbsp\; &nbsp\; &nbsp\; &nbsp\; &nbsp\; &nbsp\; &nbsp\; &nbsp\; &nbsp\; &nbsp\; &nbsp\; &nbsp\; &nbsp\; &nbsp\; &nbsp\; &nbsp\; &nbsp\; &nbsp\; &nbsp\; &nbsp\; &nbsp\; &nbsp\; &nbsp\; &nbsp\; &nbsp\; &nbsp\; &nbsp\; &nbsp\; &nbsp\; &nbsp\; &nbsp\; &nbsp\; &nbsp\; &nbsp\; &nbsp\; &nbsp\;</strong></p>\n
LOCATION:Ohnward Fine Arts Center 1215 E. Platt St. Maquoketa\, IA 52060
UID:e.3007.15239
SEQUENCE:3
DTSTAMP:20260421T060853Z
URL:https://chamber.maquoketachamber.com/events/details/shindig-2023-at-ofac-15239
END:VEVENT

END:VCALENDAR
