BEGIN:VCALENDAR
VERSION:2.0
PRODID:-//ChamberMaster//Event Calendar 2.0//EN
METHOD:PUBLISH
X-PUBLISHED-TTL:P3D
REFRESH-INTERVAL:P3D
CALSCALE:GREGORIAN
BEGIN:VEVENT
DTSTART;VALUE=DATE:20230909
DTEND;VALUE=DATE:20230910
TRANSP:TRANSPARENT
X-MICROSOFT-CDO-ALLDAYEVENT:TRUE
SUMMARY:Sacred Heart 150th Celebration
DESCRIPTION:Remember\, Rejoice\, and Reconnect at our 150th celebration. There will be carnival games\, bounce house\, bingo\, bean bag tournament and a food truck by Jeronimo's Serving. See flyer for more information.
X-ALT-DESC;FMTTYPE=text/html:Remember\, Rejoice\, and Reconnect at our 150th celebration. There will be carnival games\, bounce house\, bingo\, bean bag tournament and a food truck by Jeronimo&#39\;s Serving. See flyer for more information.
LOCATION:Sacred Heart Church
UID:e.3007.15442
SEQUENCE:3
DTSTAMP:20260423T082529Z
URL:https://chamber.maquoketachamber.com/events/details/sacred-heart-150th-celebration-15442
END:VEVENT

END:VCALENDAR
