BEGIN:VCALENDAR
VERSION:2.0
PRODID:-//ChamberMaster//Event Calendar 2.0//EN
METHOD:PUBLISH
X-PUBLISHED-TTL:P3D
REFRESH-INTERVAL:P3D
CALSCALE:GREGORIAN
BEGIN:VEVENT
DTSTART:20230623T220000Z
DTEND:20230624T030000Z
X-MICROSOFT-CDO-ALLDAYEVENT:FALSE
SUMMARY:Relay for Life - Jackson County -2023
DESCRIPTION:Relay for Life in Jackson County\n\nFriday\, June 23\n\n5:00 - 10:00 pm\n\n6:00 PM Opening Ceremony and Survivor/Caregiver Laps\n\n8:45 PM Luminary Ceremony\n\n10:00 PM Closing Ceremony\n\nPearson Hall\, Jackson County Fairgrounds\n\nGames\, Silent Auction\, Online Auction\, Food Trucks Teddy Bear Mobile of North East Iowa\,
X-ALT-DESC;FMTTYPE=text/html:<br />\n<span style="font-size:22px\;"><span style="color:#0000FF\;"><strong>Relay for Life in Jackson County<br />\nFriday\, June 23<br />\n5:00 - 10:00 pm<br />\n6:00 PM Opening Ceremony and Survivor/Caregiver Laps<br />\n8:45 PM Luminary Ceremony<br />\n10:00 PM Closing Ceremony<br />\nPearson Hall\, Jackson County Fairgrounds</strong></span></span><br />\n<span style="font-size:20px\;">Games\, Silent Auction\, Online Auction\, Food Trucks Teddy Bear Mobile of North East Iowa\,&nbsp\;</span>
LOCATION:Jackson County Fairgrounds 1212 E. Quarry St. Maquoketa\, IA
UID:e.3007.15360
SEQUENCE:3
DTSTAMP:20260421T041945Z
URL:https://chamber.maquoketachamber.com/events/details/relay-for-life-jackson-county-2023-15360
END:VEVENT

END:VCALENDAR
