BEGIN:VCALENDAR
VERSION:2.0
PRODID:-//ChamberMaster//Event Calendar 2.0//EN
METHOD:PUBLISH
X-PUBLISHED-TTL:P3D
REFRESH-INTERVAL:P3D
CALSCALE:GREGORIAN
BEGIN:VEVENT
DTSTART:20230718T233000Z
DTEND:20230719T003000Z
X-MICROSOFT-CDO-ALLDAYEVENT:FALSE
SUMMARY:Raise Your Vibe\, Raise Your Glass: BeerYoga with Lindsay
DESCRIPTION:LifeYoga with Lindsay
X-ALT-DESC;FMTTYPE=text/html:LifeYoga with Lindsay
LOCATION:Maquoketa Brewing 110 S Main St Suite A Maquoketa\, IA 52060
UID:e.3007.15411
SEQUENCE:3
DTSTAMP:20260421T061321Z
URL:https://chamber.maquoketachamber.com/events/details/raise-your-vibe-raise-your-glass-beeryoga-with-lindsay-15411
END:VEVENT

END:VCALENDAR
