BEGIN:VCALENDAR
VERSION:2.0
PRODID:-//ChamberMaster//Event Calendar 2.0//EN
METHOD:PUBLISH
X-PUBLISHED-TTL:P3D
REFRESH-INTERVAL:P3D
CALSCALE:GREGORIAN
BEGIN:VEVENT
DTSTART:20230715T190000Z
DTEND:20230715T220000Z
X-MICROSOFT-CDO-ALLDAYEVENT:FALSE
SUMMARY:Ohnward Fine Arts Center - The River City Boys
DESCRIPTION:Ohnward Fine Arts Center \n\n\n\nPresents:\n\nThe River City Boys\n\nFeaturing the music of\n\nThe Statler Brothers\n\n \n\nSaturday July 15\, 2023 at 2:00 PM\n\n \n\nThe River City Boys is an Americana / Country vocal group out of Nashville TN featuring "A tribute to the Statler's 2002 Farewell Concert". During their 47 year career\, The Statler Brothers amassed five Grammy's\, two Academy of Country Music awards\, and three Country Music Association awards! Since 1955 they have released 38 albums and 69 singles and when they retired in 2002 they left millions of fans wanting more - and now you can have it! The River City Boys will bring the "Salute to The Songs of The Statler Brothers" with the Tribute to the Statler Brothers 2002 "Farewell Concert". "Flowers on the Wall"\, "Do You Remember These"\, "Do You Know You are My Sunshine" and more. Travel back in time with The River City Boys' tribute to the legendary Statler Brothers. The River City Boys   Brian\, Mike\, Scott and Jamie   are all veteran members of many favorite gospel groups\, and they are all big Statler fans. They miss their incredible live concerts as much as you do\, so they're taking the music back on the road to entertain fans everywhere.
X-ALT-DESC;FMTTYPE=text/html:<p>Ohnward Fine Arts Center&nbsp\;<br />\n<br />\nPresents:</p>\n\n<p>The River City Boys</p>\n\n<p>Featuring the music of</p>\n\n<p>The Statler Brothers</p>\n\n<p>&nbsp\;</p>\n\n<p>Saturday July 15\, 2023 at 2:00 PM</p>\n\n<p>&nbsp\;</p>\n\n<p>The River City Boys is an Americana / Country vocal group out of Nashville TN featuring &ldquo\;A tribute to the Statler&rsquo\;s 2002 Farewell Concert&rdquo\;. During their 47 year career\, The Statler Brothers amassed five Grammy&#39\;s\, two Academy of Country Music awards\, and three Country Music Association awards! Since 1955 they have released 38 albums and 69 singles and when they retired in 2002 they left millions of fans wanting more - and now you can have it! The River City Boys will bring the &quot\;Salute to The Songs of The Statler Brothers&rdquo\; with the Tribute to the Statler Brothers 2002 &ldquo\;Farewell Concert&rdquo\;. &quot\;Flowers on the Wall&quot\;\, &quot\;Do You Remember These&quot\;\, &quot\;Do You Know You are My Sunshine&quot\; and more. Travel back in time with The River City Boys&rsquo\; tribute to the legendary Statler Brothers. The River City Boys &ndash\; Brian\, Mike\, Scott and Jamie &ndash\; are all veteran members of many favorite gospel groups\, and they are all big Statler fans. They miss their incredible live concerts as much as you do\, so they&rsquo\;re taking the music back on the road to entertain fans everywhere.</p>\n
LOCATION:The Ohnward Fine Arts Center 1215 E. Platt Street Maquoketa\, IA
UID:e.3007.15392
SEQUENCE:3
DTSTAMP:20260421T061155Z
URL:https://chamber.maquoketachamber.com/events/details/ohnward-fine-arts-center-the-river-city-boys-15392
END:VEVENT

END:VCALENDAR
