BEGIN:VCALENDAR
VERSION:2.0
PRODID:-//ChamberMaster//Event Calendar 2.0//EN
METHOD:PUBLISH
X-PUBLISHED-TTL:P3D
REFRESH-INTERVAL:P3D
CALSCALE:GREGORIAN
BEGIN:VEVENT
DTSTART:20231022T000000Z
DTEND:20231022T020000Z
X-MICROSOFT-CDO-ALLDAYEVENT:FALSE
SUMMARY:Melissa the Medium
DESCRIPTION:The Ohnward Fine Arts Center is hosting Melissa the Medium. Melissa Culbertson was born and raised in Dubuque\, Iowa. Ever since she was a young girl Melissa has experienced the presence of spirit in many ways. During her childhood she had many profound experiences with spirit and her psychic ability. It wasn't until later in life when she fully understood what her ability was. Melissa uses her Christian background for guidance as she delivers messages. The many paths that Melissa has walked in life have also led her to be a self-help coach. Many people have found strength\, stability and love for themselves taking Melissa's courses. She also does Reiki\, sound healing and grief classes. Melissa has been on live radio giving readings. She has also done many large group public events giving messages. Melissa enjoys bringing comfort\, healing and honesty to those in need. She provides a beacon of light in the chaos. \n\nMust be at least 16 to attend!
X-ALT-DESC;FMTTYPE=text/html:<p style="margin: 0px\; padding: 0px\; box-sizing: border-box\; color: rgb(111\, 114\, 135)\; font-size: 16px\; line-height: 1.5rem\; font-family: &quot\;Neue Plak&quot\;\, -apple-system\, &quot\;system-ui&quot\;\, Roboto\, &quot\;Helvetica Neue&quot\;\, Helvetica\, Tahoma\, Arial\, sans-serif\;"><span style="color:#000000\;"><span style="font-size:14px\;"><span style="font-family:arial\;">The Ohnward Fine Arts Center is hosting Melissa the Medium. Melissa Culbertson was born and raised in Dubuque\, Iowa. Ever since she was a young girl Melissa has experienced the presence of spirit in many ways. During her childhood she had many profound experiences with spirit and her psychic ability. It wasn&#39\;t until later in life when she fully understood what her ability was. Melissa uses her Christian background for guidance as she delivers messages. The many paths that Melissa has walked in life have also led her to be a self-help coach. Many people have found strength\, stability and love for themselves taking Melissa&#39\;s courses. She also does Reiki\, sound healing and grief classes. Melissa has been on live radio giving readings. She has also done many large group public events giving messages. Melissa enjoys bringing comfort\, healing and honesty to those in need. She provides a beacon of light in the chaos.&nbsp\;</span></span></span></p>\n\n<p style="margin: 0px\; padding: 10px 0px 0px\; box-sizing: border-box\; color: rgb(111\, 114\, 135)\; font-size: 16px\; line-height: 1.5rem\; font-family: &quot\;Neue Plak&quot\;\, -apple-system\, &quot\;system-ui&quot\;\, Roboto\, &quot\;Helvetica Neue&quot\;\, Helvetica\, Tahoma\, Arial\, sans-serif\;"><span style="color:#000000\;"><span style="font-size:14px\;"><span style="font-family:arial\;">Must be at least 16 to attend!</span></span></span></p>\n
LOCATION:Ohnward Fine Arts Center\, 1215 East Platt Street\, Maquoketa\, IA 52060
UID:e.3007.15393
SEQUENCE:3
DTSTAMP:20260423T094131Z
URL:https://chamber.maquoketachamber.com/events/details/melissa-the-medium-15393
END:VEVENT

END:VCALENDAR
