BEGIN:VCALENDAR
VERSION:2.0
PRODID:-//ChamberMaster//Event Calendar 2.0//EN
METHOD:PUBLISH
X-PUBLISHED-TTL:P3D
REFRESH-INTERVAL:P3D
CALSCALE:GREGORIAN
BEGIN:VEVENT
DTSTART:20230715T180000Z
DTEND:20230715T210000Z
X-MICROSOFT-CDO-ALLDAYEVENT:FALSE
SUMMARY:Maquoketa Public Library - Garden Walk
DESCRIPTION:The friends of the Maquoketa Public Library present a garden walk with four beautiful local gardens cultivated with care and love.
X-ALT-DESC;FMTTYPE=text/html:The friends of the Maquoketa Public Library present a garden walk with four beautiful local gardens cultivated with care and love.&nbsp\;
LOCATION:Tickets are available at the front desk of the Maquoketa Public Library\, MSB\, and at Osterhaus Pharmacy.
UID:e.3007.15396
SEQUENCE:3
DTSTAMP:20260421T061028Z
URL:https://chamber.maquoketachamber.com/events/details/maquoketa-public-library-garden-walk-15396
END:VEVENT

END:VCALENDAR
