BEGIN:VCALENDAR
VERSION:2.0
PRODID:-//ChamberMaster//Event Calendar 2.0//EN
METHOD:PUBLISH
X-PUBLISHED-TTL:P3D
REFRESH-INTERVAL:P3D
CALSCALE:GREGORIAN
BEGIN:VEVENT
DTSTART:20230725T210000Z
DTEND:20230725T230000Z
X-MICROSOFT-CDO-ALLDAYEVENT:FALSE
SUMMARY:Maquoketa Farmers Market - 2023
DESCRIPTION:The 2023 Maquoketa Farmers Market is held on Tuesday evenings May 16th through October 10th at the Ohnward Fine Arts Center Parking Lot in Maquoketa\, Iowa. \n\n \nIf you are interested in being a vendor for the 2022 Maquoketa Farmers Market\, contact Ted Strait\, 563-221-1531.\n\n\n\nNO FOOD OR MUSIC DUE TO FAIR PARADE. VENDORS ONLY
X-ALT-DESC;FMTTYPE=text/html:<span style="color:#0000FF\;"><strong><span style="font-size:18px\;">The 2023 Maquoketa Farmers Market is held on Tuesday evenings May 16th through October 10th at the Ohnward Fine Arts Center Parking Lot in Maquoketa\, Iowa.&nbsp\;</span></strong></span><br />\n&nbsp\;\n<p color:="" font-size:="" style="margin: 0px 0px 6px\; font-family: system-ui\, -apple-system\, system-ui\, "><span style="font-size: 16px\;">If you are interested in being a vendor for the 2022&nbsp\;Maquoketa Farmers Market\, contact Ted Strait\, 563-221-1531.<br />\n<br />\nNO FOOD OR MUSIC DUE TO FAIR PARADE. VENDORS ONLY&nbsp\;</span></p>\n<br />\n<br />\n<br />\n&nbsp\;
LOCATION:Ohnward Fine Arts Center Parking Lot 1215 E Platt St Maquoketa\, IA 52060
UID:e.3007.15327
SEQUENCE:3
DTSTAMP:20260421T061425Z
URL:https://chamber.maquoketachamber.com/events/details/maquoketa-farmers-market-2023-07-25-2023-15327
END:VEVENT

END:VCALENDAR
