BEGIN:VCALENDAR
VERSION:2.0
PRODID:-//ChamberMaster//Event Calendar 2.0//EN
METHOD:PUBLISH
X-PUBLISHED-TTL:P3D
REFRESH-INTERVAL:P3D
CALSCALE:GREGORIAN
BEGIN:VEVENT
DTSTART:20230711T210000Z
DTEND:20230711T230000Z
X-MICROSOFT-CDO-ALLDAYEVENT:FALSE
SUMMARY:Maquoketa Farmers Market - 2023
DESCRIPTION:The 2023 Maquoketa Farmers Market is held on Tuesday evenings May 16th through October 10th at the Ohnward Fine Arts Center Parking Lot in Maquoketa\, Iowa. \n\n\n\nFOOD -\n\n\n\nKiwanis Club \n\nSmoked Pork Lion Sandwiches\n\nChips \n\nDesserts\n\nBeverages \n\n\n\nMUSIC - \n\n\n\nJim Wylie \n\n \nIf you are interested in being a vendor for the 2022 Maquoketa Farmers Market\, contact Ted Strait\, 563-221-1531.
X-ALT-DESC;FMTTYPE=text/html:<span style="color:#0000FF\;"><strong><span style="font-size:18px\;">The 2023 Maquoketa Farmers Market is held on Tuesday evenings May 16th through October 10th at the Ohnward Fine Arts Center Parking Lot in Maquoketa\, Iowa.&nbsp\;</span></strong></span><br />\n<br />\nFOOD -<br />\n<br />\nKiwanis Club&nbsp\;<br />\nSmoked Pork Lion Sandwiches<br />\nChips&nbsp\;<br />\nDesserts<br />\nBeverages&nbsp\;<br />\n<br />\nMUSIC -&nbsp\;<br />\n<br />\nJim Wylie&nbsp\;<br />\n&nbsp\;\n<p color:="" font-size:="" style="margin: 0px 0px 6px\; font-family: system-ui\, -apple-system\, system-ui\, "><span style="font-size: 16px\;">If you are interested in being a vendor for the 2022&nbsp\;Maquoketa Farmers Market\, contact Ted Strait\, 563-221-1531.</span></p>\n<br />\n<br />\n<br />\n&nbsp\;
LOCATION:Ohnward Fine Arts Center Parking Lot 1215 E Platt St Maquoketa\, IA 52060
UID:e.3007.15325
SEQUENCE:3
DTSTAMP:20260421T061455Z
URL:https://chamber.maquoketachamber.com/events/details/maquoketa-farmers-market-2023-07-11-2023-15325
END:VEVENT

END:VCALENDAR
