BEGIN:VCALENDAR
VERSION:2.0
PRODID:-//ChamberMaster//Event Calendar 2.0//EN
METHOD:PUBLISH
X-PUBLISHED-TTL:P3D
REFRESH-INTERVAL:P3D
CALSCALE:GREGORIAN
BEGIN:VEVENT
DTSTART:20230630T160000Z
DTEND:20230630T200000Z
X-MICROSOFT-CDO-ALLDAYEVENT:FALSE
SUMMARY:Maquoketa Community Blood Drive
DESCRIPTION:Maquoketa Community Blood Drive
X-ALT-DESC;FMTTYPE=text/html:Maquoketa Community Blood Drive&nbsp\;&nbsp\;&nbsp\;&nbsp\;
LOCATION:Maquoketa YMCA Gym 500 E Summit St Maquoketa\, IA 52060
UID:e.3007.15395
SEQUENCE:3
DTSTAMP:20260421T042055Z
URL:https://chamber.maquoketachamber.com/events/details/maquoketa-community-blood-drive-15395
END:VEVENT

END:VCALENDAR
