BEGIN:VCALENDAR
VERSION:2.0
PRODID:-//ChamberMaster//Event Calendar 2.0//EN
METHOD:PUBLISH
X-PUBLISHED-TTL:P3D
REFRESH-INTERVAL:P3D
CALSCALE:GREGORIAN
BEGIN:VEVENT
DTSTART:20230713T223000Z
DTEND:20230713T233000Z
X-MICROSOFT-CDO-ALLDAYEVENT:FALSE
SUMMARY:LifeYoga with Lindsay
DESCRIPTION:LifeYoga with Lindsay
X-ALT-DESC;FMTTYPE=text/html:LifeYoga with Lindsay
LOCATION:Maquoketa Public Library 126 S 2nd St Maquoketa\, IA
UID:e.3007.15408
SEQUENCE:3
DTSTAMP:20260421T060956Z
URL:https://chamber.maquoketachamber.com/events/details/lifeyoga-with-lindsay-15408
END:VEVENT

END:VCALENDAR
