BEGIN:VCALENDAR
VERSION:2.0
PRODID:-//ChamberMaster//Event Calendar 2.0//EN
METHOD:PUBLISH
X-PUBLISHED-TTL:P3D
REFRESH-INTERVAL:P3D
CALSCALE:GREGORIAN
BEGIN:VEVENT
DTSTART:20230926T133000Z
DTEND:20230926T170000Z
X-MICROSOFT-CDO-ALLDAYEVENT:FALSE
SUMMARY:Leadership Maquoketa 2023
DESCRIPTION:Application deadline is July 31\, 2023. Participants will then be selected from the applications received. Notification will be sent to accepted applicants no later than August 8\, 2023.\n\nProgram begins September 12\, 2023.\n\nDownload Application\n\nDownload Flyer\n\nDownload Program/Sponsor Fee Flyer
X-ALT-DESC;FMTTYPE=text/html:<div><span style="font-family: Calibri\; font-size: 16px\;">Application deadline is July 31\, 2023. Participants will then be selected from the applications received. Notification will be sent to accepted applicants no later than August 8\, 2023.</span><br style="font-family: Calibri\; font-size: 16px\;" />\n<span style="font-family: Calibri\; font-size: 16px\;">Program begins September 12\, 2023.</span><br />\n<a href="https://maquoketachamber.com/wp-content/uploads/2023/04/LeadershipMaquoketa_Application_2023.pdf">Download Application</a><br />\n<a href="https://maquoketachamber.com/wp-content/uploads/2023/04/LeadershipMaquoketa_Flyer_2023.pdf">Download Flyer</a><br />\n<a href="https://maquoketachamber.com/wp-content/uploads/2023/04/LeadershipMaq_Sponsor_ProgramFees_2023.pdf">Download Program/Sponsor Fee Flyer</a></div>\n<br />\n<br />\n<br />\n&nbsp\;
LOCATION:
UID:e.3007.15275
SEQUENCE:3
DTSTAMP:20260423T082911Z
URL:https://chamber.maquoketachamber.com/events/details/leadership-maquoketa-2023-09-26-2023-15275
END:VEVENT

END:VCALENDAR
