BEGIN:VCALENDAR
VERSION:2.0
PRODID:-//ChamberMaster//Event Calendar 2.0//EN
METHOD:PUBLISH
X-PUBLISHED-TTL:P3D
REFRESH-INTERVAL:P3D
CALSCALE:GREGORIAN
BEGIN:VEVENT
DTSTART:20230818T163000Z
DTEND:20230818T173000Z
X-MICROSOFT-CDO-ALLDAYEVENT:FALSE
SUMMARY:Journey to the Wild West
DESCRIPTION:Clover Ridge Place is Rounding Up friends & neighbors to join us at the Maquoketa Senior Center for lunch and a Rooten Tooten Good Time! Music from 11:30 am to 12:30 pm with Helen Reisen.\n\n\n\nCall Kimberly at the Senior Center to make your lunch reservation (563) 202-3002.
X-ALT-DESC;FMTTYPE=text/html:Clover Ridge Place is Rounding Up friends &amp\; neighbors to join us at the Maquoketa Senior Center for lunch and a Rooten Tooten Good Time! Music from 11:30 am to 12:30 pm with Helen Reisen.<br />\n<br />\nCall Kimberly at the Senior Center to make your lunch reservation (563) 202-3002.&nbsp\;
LOCATION:Maquoketa Senior Center (1000 E Quarry St.\, Maquoketa\, IA).
UID:e.3007.15418
SEQUENCE:3
DTSTAMP:20260421T074437Z
URL:https://chamber.maquoketachamber.com/events/details/journey-to-the-wild-west-15418
END:VEVENT

END:VCALENDAR
