BEGIN:VCALENDAR
VERSION:2.0
PRODID:-//ChamberMaster//Event Calendar 2.0//EN
METHOD:PUBLISH
X-PUBLISHED-TTL:P3D
REFRESH-INTERVAL:P3D
CALSCALE:GREGORIAN
BEGIN:VEVENT
DTSTART;VALUE=DATE:20230725
DTEND;VALUE=DATE:20230731
TRANSP:TRANSPARENT
X-MICROSOFT-CDO-ALLDAYEVENT:TRUE
SUMMARY:Jackson County Iowa Fair
DESCRIPTION:The fair is a celebration of the special qualities of life in Jackson County. We encourage you to enjoy everything from Otter Adventures and Tiger Encounters\, to live Country Music from LOCASH and Little Texas on Friday and Music from Clint Black and Chris Janson on Saturday. Don't forget our ever famous\, Night of Destruction. The fair is a reunion of sorts\, where you can reconnect with the smiles and conversation of friends from the past and make new friends for the future. Come and enjoy!
X-ALT-DESC;FMTTYPE=text/html:The fair is a celebration of the special qualities of life in Jackson County. We encourage you to enjoy everything from Otter Adventures and Tiger Encounters\, to live Country Music from LOCASH and Little Texas on Friday and Music from Clint Black and Chris Janson on Saturday. Don&#39\;t forget our ever famous\, Night of Destruction. The fair is a reunion of sorts\, where you can reconnect with the smiles and conversation of friends from the past and make new friends for the future. Come and enjoy!
LOCATION:Jackson County Iowa Fairgrounds
UID:e.3007.15076
SEQUENCE:3
DTSTAMP:20260421T060727Z
URL:https://chamber.maquoketachamber.com/events/details/jackson-county-iowa-fair-15076
END:VEVENT

END:VCALENDAR
