BEGIN:VCALENDAR
VERSION:2.0
PRODID:-//ChamberMaster//Event Calendar 2.0//EN
METHOD:PUBLISH
X-PUBLISHED-TTL:P3D
REFRESH-INTERVAL:P3D
CALSCALE:GREGORIAN
BEGIN:VEVENT
DTSTART:20230611T180000Z
DTEND:20230611T220000Z
X-MICROSOFT-CDO-ALLDAYEVENT:FALSE
SUMMARY:Jackson County Day @the Clinton Lumberkings
DESCRIPTION:The Clinton LumberKings Baseball Club "Jackson County Day" at NelsonCorp Field in Clinton\, Iowa is set for Sunday\, June 11th 2023.  We are a sponsor of it this year!  The LumberKings are set to play the Burlington Bees.  Gates open at 1pm and the game starts at 2pm.
X-ALT-DESC;FMTTYPE=text/html:The Clinton LumberKings Baseball Club &ldquo\;Jackson County Day&rdquo\; at NelsonCorp Field in Clinton\, Iowa is set for Sunday\, June 11th 2023.&nbsp\; We are a sponsor of it this year!&nbsp\; The LumberKings are set to play the Burlington Bees.&nbsp\; Gates open at 1pm and the game starts at 2pm.&nbsp\;<br />\n<br />\n&nbsp\;
LOCATION:NelsonCorp Field 537 Ball Park Dr. Clinton\, IA 52732
UID:e.3007.15226
SEQUENCE:3
DTSTAMP:20260421T042008Z
URL:https://chamber.maquoketachamber.com/events/details/jackson-county-day-the-clinton-lumberkings-15226
END:VEVENT

END:VCALENDAR
