BEGIN:VCALENDAR
VERSION:2.0
PRODID:-//ChamberMaster//Event Calendar 2.0//EN
METHOD:PUBLISH
X-PUBLISHED-TTL:P3D
REFRESH-INTERVAL:P3D
CALSCALE:GREGORIAN
BEGIN:VEVENT
DTSTART:20230929T220000Z
DTEND:20230930T030000Z
X-MICROSOFT-CDO-ALLDAYEVENT:FALSE
SUMMARY:Homecoming Game
DESCRIPTION:5:00PM Freshmen/Sophomore Football vs. Central DeWitt High School at Home \n\n7:30PM Varsity Football vs. Central DeWitt High School at Home
X-ALT-DESC;FMTTYPE=text/html:<span style="color:black\;"><span style="font-size:13.0pt\;">5:00PM Freshmen/Sophomore Football vs. Central DeWitt High School at Home&nbsp\;</span></span><br />\n<span style="color:black\;"><span style="font-size:13.0pt\;">7:30PM Varsity Football vs. Central DeWitt High School at Home</span></span><br />\n&nbsp\;
LOCATION:Maquoketa Cardinals Football Field/stands Maquoketa\, Iowa Summit St. Maquoketa\, IA 52060 United States
UID:e.3007.15446
SEQUENCE:3
DTSTAMP:20260423T082415Z
URL:https://chamber.maquoketachamber.com/events/details/homecoming-game-15446
END:VEVENT

END:VCALENDAR
