BEGIN:VCALENDAR
VERSION:2.0
PRODID:-//ChamberMaster//Event Calendar 2.0//EN
METHOD:PUBLISH
X-PUBLISHED-TTL:P3D
REFRESH-INTERVAL:P3D
CALSCALE:GREGORIAN
BEGIN:VEVENT
DTSTART:20230818T160000Z
DTEND:20230818T183000Z
X-MICROSOFT-CDO-ALLDAYEVENT:FALSE
SUMMARY:Grilling for Charity at MSB
DESCRIPTION:Maquoketa State Bank's Grilling for Charity\n\nFriday\, August 18th.\n\n11:00 AM - 1:30 PM\n\nHot Dog or Pork Tenderloin\, Chips\, Cookie & Drink\n\n$8 Suggested Donation\n\nMaquoketa State Bank\, Main Bank Parking Lot\n\n\n\nSuggested $8 - donated to the Maquoketa Backpack Program.
X-ALT-DESC;FMTTYPE=text/html:<span style="color:#0000CD\;"><strong><span style="font-size:16px\;"><span style="font-size:20px\;">Maquoketa State Bank&#39\;s Grilling for Charity<br />\nFriday\, August 18th.<br />\n11:00 AM - 1:30 PM<br />\nHot Dog or Pork Tenderloin\, Chips\, Cookie &amp\; Drink<br />\n$8 Suggested Donation</span><br />\n<span style="font-size:20px\;">Maquoketa State Bank\, Main Bank Parking Lot</span><br />\n<br />\nSuggested $8 - donated to the Maquoketa Backpack Program.</span></strong></span>
LOCATION:Maquoketa State Bank\, Main Bank Parking Lot 203 N. Main St. Maquoketa\, IA
UID:e.3007.15419
SEQUENCE:3
DTSTAMP:20260421T074255Z
URL:https://chamber.maquoketachamber.com/events/details/grilling-for-charity-at-msb-15419
END:VEVENT

END:VCALENDAR
