BEGIN:VCALENDAR
VERSION:2.0
PRODID:-//ChamberMaster//Event Calendar 2.0//EN
METHOD:PUBLISH
X-PUBLISHED-TTL:P3D
REFRESH-INTERVAL:P3D
CALSCALE:GREGORIAN
BEGIN:VEVENT
DTSTART:20230513T000000Z
DTEND:20230513T023000Z
X-MICROSOFT-CDO-ALLDAYEVENT:FALSE
SUMMARY:Friday Night Live w/ Joseph Valenti!
DESCRIPTION:Live music with Joseph Valenti!
X-ALT-DESC;FMTTYPE=text/html:<span style="color:rgb(5\, 5\, 5)\; font-family:segoe ui historic\,segoe ui\,helvetica\,arial\,sans-serif\; font-size:15px">Live music with Joseph Valenti!</span>
LOCATION:Maquoketa Brewing
UID:e.3007.15232
SEQUENCE:3
DTSTAMP:20260421T060855Z
URL:https://chamber.maquoketachamber.com/events/details/friday-night-live-w-joseph-valenti-15232
END:VEVENT

END:VCALENDAR
