BEGIN:VCALENDAR
VERSION:2.0
PRODID:-//ChamberMaster//Event Calendar 2.0//EN
METHOD:PUBLISH
X-PUBLISHED-TTL:P3D
REFRESH-INTERVAL:P3D
CALSCALE:GREGORIAN
BEGIN:VEVENT
DTSTART:20230527T000000Z
DTEND:20230527T023000Z
X-MICROSOFT-CDO-ALLDAYEVENT:FALSE
SUMMARY:Friday Night Live w/ Jim Perron!
DESCRIPTION:Live music with Jim Perron!
X-ALT-DESC;FMTTYPE=text/html:<span style="color:rgb(5\, 5\, 5)\; font-family:segoe ui historic\,segoe ui\,helvetica\,arial\,sans-serif\; font-size:15px">Live music with Jim Perron!</span>
LOCATION:Maquoketa Brewing
UID:e.3007.15235
SEQUENCE:3
DTSTAMP:20260421T060843Z
URL:https://chamber.maquoketachamber.com/events/details/friday-night-live-w-jim-perron-15235
END:VEVENT

END:VCALENDAR
