BEGIN:VCALENDAR
VERSION:2.0
PRODID:-//ChamberMaster//Event Calendar 2.0//EN
METHOD:PUBLISH
X-PUBLISHED-TTL:P3D
REFRESH-INTERVAL:P3D
CALSCALE:GREGORIAN
BEGIN:VEVENT
DTSTART:20230928T210000Z
DTEND:20230928T223000Z
X-MICROSOFT-CDO-ALLDAYEVENT:FALSE
SUMMARY:EV Presentation & Car Show
DESCRIPTION:Join the Jackson County Energy District at Innovate 120 at 4:00pm\, September 28th\, for a fascinating presentation on clean energy and energy efficiency efforts in Jackson County\, with a focus on Electric Vehicles (EVs). After the presentation\, there will be a Car Show featuring several EVs which the owners will happily answer questions about.
X-ALT-DESC;FMTTYPE=text/html:Join the Jackson County Energy District at Innovate 120 at 4:00pm\, September 28th\, for a fascinating presentation on clean energy and energy efficiency efforts in Jackson County\, with a focus on Electric Vehicles (EVs). After the presentation\, there will be a Car Show featuring several EVs which the owners will happily answer questions about.
LOCATION:Innovate 120 120 S. Main Street\, Maquoketa
UID:e.3007.15452
SEQUENCE:3
DTSTAMP:20260423T082326Z
URL:https://chamber.maquoketachamber.com/events/details/ev-presentation-car-show-15452
END:VEVENT

END:VCALENDAR
