BEGIN:VCALENDAR
VERSION:2.0
PRODID:-//ChamberMaster//Event Calendar 2.0//EN
METHOD:PUBLISH
X-PUBLISHED-TTL:P3D
REFRESH-INTERVAL:P3D
CALSCALE:GREGORIAN
BEGIN:VEVENT
DTSTART:20231013T150000Z
DTEND:20231015T220000Z
X-MICROSOFT-CDO-ALLDAYEVENT:FALSE
SUMMARY:Eastern Iowa Arts Tour
DESCRIPTION:The Eastern Iowa Autumn Arts Tour includes world class art museums in Davenport and Dubuque to a variety of unique\, out of the way studios and galleries in Maquoketa\, Bellevue\, Anamosa\, and Balltown. You can access the Eastern Iowa Arts Tour map by searching Facebook
X-ALT-DESC;FMTTYPE=text/html:The Eastern Iowa Autumn Arts Tour includes world class art museums in Davenport and Dubuque to a variety of unique\, out of the way studios and galleries in Maquoketa\, Bellevue\, Anamosa\, and Balltown. You can access the Eastern Iowa Arts Tour map by searching Facebook
LOCATION:Maquoketa\, Davenport\, Dubuque\, Bellevue\, Balltown
UID:e.3007.15456
SEQUENCE:3
DTSTAMP:20260423T094800Z
URL:https://chamber.maquoketachamber.com/events/details/eastern-iowa-arts-tour-15456
END:VEVENT

END:VCALENDAR
