BEGIN:VCALENDAR
VERSION:2.0
PRODID:-//ChamberMaster//Event Calendar 2.0//EN
METHOD:PUBLISH
X-PUBLISHED-TTL:P3D
REFRESH-INTERVAL:P3D
CALSCALE:GREGORIAN
BEGIN:VEVENT
DTSTART:20230525T230000Z
DTEND:20230526T000000Z
X-MICROSOFT-CDO-ALLDAYEVENT:FALSE
SUMMARY:Crochet & Chat!
DESCRIPTION:Bring in your current crochet project and/or start a new one while conversing with fellow crocheters!
X-ALT-DESC;FMTTYPE=text/html:Bring in your current crochet project and/or start a new one while conversing with fellow crocheters!&nbsp\;
LOCATION:Maquoketa Brewing
UID:e.3007.15230
SEQUENCE:3
DTSTAMP:20260421T060844Z
URL:https://chamber.maquoketachamber.com/events/details/crochet-chat-05-25-2023-15230
END:VEVENT

END:VCALENDAR
