BEGIN:VCALENDAR
VERSION:2.0
PRODID:-//ChamberMaster//Event Calendar 2.0//EN
METHOD:PUBLISH
X-PUBLISHED-TTL:P3D
REFRESH-INTERVAL:P3D
CALSCALE:GREGORIAN
BEGIN:VEVENT
DTSTART:20230626T010000Z
DTEND:20230626T040000Z
X-MICROSOFT-CDO-ALLDAYEVENT:FALSE
SUMMARY:Codfish Hollow Barnstormers - Mike and the Moonpies
DESCRIPTION:Mike and The Moonpies w/ Brit Taylor/ Willie Tea Taylor & The Turkey Buzzards will perform at the Codfish Hollow Barnstormers. Enjoy live music in a cool\, old barn. For more information email codfish.hollow@gmail.com or visit the website https://codfishhollowbarnstormers.com.
X-ALT-DESC;FMTTYPE=text/html:<span style="color:#000000\;"><span style="font-size:12px\;"><span style="font-family:arial\;">Mike and The Moonpies w/ Brit Taylor/ Willie Tea Taylor &amp\; The Turkey Buzzards&nbsp\;will perform at the Codfish Hollow Barnstormers. Enjoy live music in a cool\, old barn. For more information email codfish.hollow@gmail.com or visit the website https://codfishhollowbarnstormers.com.</span></span></span>
LOCATION:5013 288th Ave.\, Codfish Hollow\, Maquoketa\, IA 52060.
UID:e.3007.15364
SEQUENCE:3
DTSTAMP:20260421T041951Z
URL:https://chamber.maquoketachamber.com/events/details/codfish-hollow-barnstormers-mike-and-the-moonpies-15364
END:VEVENT

END:VCALENDAR
