BEGIN:VCALENDAR
VERSION:2.0
PRODID:-//ChamberMaster//Event Calendar 2.0//EN
METHOD:PUBLISH
X-PUBLISHED-TTL:P3D
REFRESH-INTERVAL:P3D
CALSCALE:GREGORIAN
BEGIN:VEVENT
DTSTART:20231014T010000Z
DTEND:20231014T040000Z
X-MICROSOFT-CDO-ALLDAYEVENT:FALSE
SUMMARY:Codfish Hollow Barnstormers - Dale Watson (solo) w/ Matt Hillyer
DESCRIPTION:Dale Watson (solo) w/ Matt Hillyer will perform at the Codfish Hollow Barnstormers. Enjoy live music in a cool\, old barn. For more information email codfish.hollow@gmail.com or visit the website https://codfishhollowbarnstormers.com.
X-ALT-DESC;FMTTYPE=text/html:<span style="font-size:14px\;"><span style="font-family:arial\;">Dale Watson (solo) w/ Matt Hillyer&nbsp\;<span style="color: rgb(0\, 0\, 0)\;">will perform at the Codfish Hollow Barnstormers. Enjoy live music in a cool\, old barn. For more information email codfish.hollow@gmail.com or visit the website https://codfishhollowbarnstormers.com.</span></span></span>
LOCATION:5013 288th Ave.\, Codfish Hollow\, Maquoketa\, IA 52060.
UID:e.3007.15386
SEQUENCE:3
DTSTAMP:20260423T095617Z
URL:https://chamber.maquoketachamber.com/events/details/codfish-hollow-barnstormers-dale-watson-solo-w-matt-hillyer-15386
END:VEVENT

END:VCALENDAR
