BEGIN:VCALENDAR
VERSION:2.0
PRODID:-//ChamberMaster//Event Calendar 2.0//EN
METHOD:PUBLISH
X-PUBLISHED-TTL:P3D
REFRESH-INTERVAL:P3D
CALSCALE:GREGORIAN
BEGIN:VEVENT
DTSTART:20231001T210000Z
DTEND:20231002T020000Z
X-MICROSOFT-CDO-ALLDAYEVENT:FALSE
SUMMARY:Codfish Hollow Barnstormers - Codtoberfest w /Kommuna Lux and The Muzik Krauts
DESCRIPTION:Codtoberfest w/ Kommuna Lux and The Muzik Krauts will perform at the Codfish Hollow Barnstormers. Enjoy live music in a cool\, old barn. For more information email codfish.hollow@gmail.com or visit the website https://codfishhollowbarnstormers.com.
X-ALT-DESC;FMTTYPE=text/html:<span style="font-size:14px\;"><span style="font-family:arial\;">Codtoberfest w/ Kommuna Lux and The Muzik Krauts&nbsp\;<span style="color: rgb(0\, 0\, 0)\;">will perform at the Codfish Hollow Barnstormers. Enjoy live music in a cool\, old barn. For more information email codfish.hollow@gmail.com or visit the website https://codfishhollowbarnstormers.com.</span></span></span>
LOCATION:5013 288th Ave.\, Codfish Hollow\, Maquoketa\, IA 52060.
UID:e.3007.15385
SEQUENCE:3
DTSTAMP:20260423T095741Z
URL:https://chamber.maquoketachamber.com/events/details/codfish-hollow-barnstormers-codtoberfest-w-kommuna-lux-and-the-muzik-krauts-15385
END:VEVENT

END:VCALENDAR
