BEGIN:VCALENDAR
VERSION:2.0
PRODID:-//ChamberMaster//Event Calendar 2.0//EN
METHOD:PUBLISH
X-PUBLISHED-TTL:P3D
REFRESH-INTERVAL:P3D
CALSCALE:GREGORIAN
BEGIN:VEVENT
DTSTART:20230913T223000Z
DTEND:20230914T000000Z
X-MICROSOFT-CDO-ALLDAYEVENT:FALSE
SUMMARY:Clover Ridge Place-Dinner\, Cars\, & Tours
DESCRIPTION:We would like to invite everyone to join us Wednesday\, September 13th from 5:30 -7:00 PM for Dinner\, Cars and Tours! \n\nThe Coronado Car Club will be bringing the cars\, to our newly resurfaced parking lot. \n\nThe culinary team will be serving Pulled Pork sandwiches\, Coleslaw\, Chips\, drinks and Ice Cream\, Free will donation\, all proceeds going to the Walk to End Alzheimer's.\n\nThere will be a couple silent auction baskets and torus of the community! \n\nCome say hello to friends\, have some dinner! Parking lot parties are always a good time! See you on the 13th!!
X-ALT-DESC;FMTTYPE=text/html:<div dir="auto">\n<div class="x1iorvi4 x1pi30zi x1l90r2v x1swvt13" data-ad-comet-preview="message" data-ad-preview="message" id=":ra:">\n<div class="x78zum5 xdt5ytf xz62fqu x16ldp7u">\n<div class="xu06os2 x1ok221b">\n<div class="xdj266r x11i5rnm xat24cr x1mh8g0r x1vvkbs x126k92a">\n<div dir="auto" style="text-align: start\;"><span class="x193iq5w xeuugli x13faqbe x1vvkbs x1xmvt09 x1lliihq x1s928wv xhkezso x1gmr53x x1cpjm7i x1fgarty x1943h6x xudqn12 x3x7a5m x6prxxf xvq8zen xo1l8bm xzsf02u x1yc453h" dir="auto">We would like to invite everyone to join us Wednesday\, September 13th from 5:30 -7:00 PM for Dinner\, Cars and Tours! </span></div>\n\n<div dir="auto" style="text-align: start\;"><span class="x193iq5w xeuugli x13faqbe x1vvkbs x1xmvt09 x1lliihq x1s928wv xhkezso x1gmr53x x1cpjm7i x1fgarty x1943h6x xudqn12 x3x7a5m x6prxxf xvq8zen xo1l8bm xzsf02u x1yc453h" dir="auto">The Coronado Car Club will be bringing the cars\, to our newly resurfaced parking lot. </span></div>\n\n<div dir="auto" style="text-align: start\;"><span class="x193iq5w xeuugli x13faqbe x1vvkbs x1xmvt09 x1lliihq x1s928wv xhkezso x1gmr53x x1cpjm7i x1fgarty x1943h6x xudqn12 x3x7a5m x6prxxf xvq8zen xo1l8bm xzsf02u x1yc453h" dir="auto">The culinary team will be serving Pulled Pork sandwiches\, Coleslaw\, Chips\, drinks and Ice Cream\, Free will donation\, all proceeds going to the Walk to End Alzheimer&#39\;s.</span></div>\n\n<div dir="auto" style="text-align: start\;"><span class="x193iq5w xeuugli x13faqbe x1vvkbs x1xmvt09 x1lliihq x1s928wv xhkezso x1gmr53x x1cpjm7i x1fgarty x1943h6x xudqn12 x3x7a5m x6prxxf xvq8zen xo1l8bm xzsf02u x1yc453h" dir="auto">There will be a couple silent auction baskets and torus of the community! </span></div>\n\n<div dir="auto" style="text-align: start\;"><span class="x193iq5w xeuugli x13faqbe x1vvkbs x1xmvt09 x1lliihq x1s928wv xhkezso x1gmr53x x1cpjm7i x1fgarty x1943h6x xudqn12 x3x7a5m x6prxxf xvq8zen xo1l8bm xzsf02u x1yc453h" dir="auto">Come say hello to friends\, have some dinner! Parking lot parties are always a good time! See you on the 13th!!</span></div>\n</div>\n</div>\n</div>\n</div>\n</div>\n
LOCATION:205 Ehler Lane\, Maquoketa\, IA\, United States\, Iowa
UID:e.3007.15438
SEQUENCE:3
DTSTAMP:20260423T082717Z
URL:https://chamber.maquoketachamber.com/events/details/clover-ridge-place-dinner-cars-tours-15438
END:VEVENT

END:VCALENDAR
