BEGIN:VCALENDAR
VERSION:2.0
PRODID:-//ChamberMaster//Event Calendar 2.0//EN
METHOD:PUBLISH
X-PUBLISHED-TTL:P3D
REFRESH-INTERVAL:P3D
CALSCALE:GREGORIAN
BEGIN:VEVENT
DTSTART:20231031T220000Z
DTEND:20231101T000000Z
X-MICROSOFT-CDO-ALLDAYEVENT:FALSE
SUMMARY:City of Maquoketa Trick or Treat
DESCRIPTION:City of Maquoketa Trick or Treat
X-ALT-DESC;FMTTYPE=text/html:City of Maquoketa Trick or Treat
LOCATION:City of Maquoketa
UID:e.3007.15476
SEQUENCE:3
DTSTAMP:20260423T095930Z
URL:https://chamber.maquoketachamber.com/events/details/city-of-maquoketa-trick-or-treat-15476
END:VEVENT

END:VCALENDAR
