BEGIN:VCALENDAR
VERSION:2.0
PRODID:-//ChamberMaster//Event Calendar 2.0//EN
METHOD:PUBLISH
X-PUBLISHED-TTL:P3D
REFRESH-INTERVAL:P3D
CALSCALE:GREGORIAN
BEGIN:VEVENT
DTSTART:20230517T210000Z
DTEND:20230518T000000Z
X-MICROSOFT-CDO-ALLDAYEVENT:FALSE
SUMMARY:Chuckies Tenderloin Food Truck!
DESCRIPTION:It's everyone's favorite day of the week! Stop by\, May 17th\, as Chuckies Tenderloin serves up some delicious food!
X-ALT-DESC;FMTTYPE=text/html:<div style="text-align:right">\n<p style="text-align:left"><span style="font-size:17px">It&rsquo\;s everyone&#39\;s favorite day of the week!</span><span style="color:rgb(5\, 5\, 5)"><span style="font-size:17px"> Stop by\, May 17th\, as</span></span><span style="font-size:17px">&nbsp\;<font color="#000000">Chuckies Tenderloin&nbsp\;</font></span><span style="font-size:17px">serves up some delicious food!</span></p>\n</div>\n\n<table border="0" cellpadding="0" cellspacing="0" style="background-color:transparent\; border-collapse:collapse\; color:rgb(0\, 0\, 0)\; font-family:times new roman\; font-size:medium\; text-size-adjust:100%\; width:100%">\n	<tbody>\n		<tr>\n		</tr>\n	</tbody>\n</table>\n
LOCATION:Maquoketa Brewing.
UID:e.3007.15233
SEQUENCE:3
DTSTAMP:20260421T075735Z
URL:https://chamber.maquoketachamber.com/events/details/chuckies-tenderloin-food-truck-15233
END:VEVENT

END:VCALENDAR
