BEGIN:VCALENDAR
VERSION:2.0
PRODID:-//ChamberMaster//Event Calendar 2.0//EN
METHOD:PUBLISH
X-PUBLISHED-TTL:P3D
REFRESH-INTERVAL:P3D
CALSCALE:GREGORIAN
BEGIN:VEVENT
DTSTART:20230809T170000Z
DTEND:20230810T010000Z
X-MICROSOFT-CDO-ALLDAYEVENT:FALSE
SUMMARY:Chamber Golf Outing - 2023
DESCRIPTION:Wednesday\, August 9th\n\n9 Hole - 4 Person Best Shot\n\nShot Gun Start - 1pm\n\nMaquoketa Country Club
X-ALT-DESC;FMTTYPE=text/html:<div class="page" title="Page 1">\n<div class="section" style="background-color: rgb(100.000000%\, 100.000000%\, 100.000000%)">\n<div class="layoutArea">\n<div class="column">\n<p style="text-align: center\;"><span style="font-size:26px\;"><strong><span style="color:#000080\;"><span style="font-family:verdana\;">Wednesday\, August 9th<br />\n9 Hole - 4 Person Best Shot<br />\nShot Gun Start - 1pm</span></span></strong></span><br />\n<span style="font-size:20px\;">Maquoketa Country Club</span><br />\n<br />\n<br />\n&nbsp\;</p>\n</div>\n</div>\n</div>\n</div>\n
LOCATION:Maquoketa Country Club 17961 West Summit St. Maquoketa\, IA 52060
UID:e.3007.15350
SEQUENCE:3
DTSTAMP:20260421T074140Z
URL:https://chamber.maquoketachamber.com/events/details/chamber-golf-outing-2023-15350
END:VEVENT

END:VCALENDAR
