BEGIN:VCALENDAR
VERSION:2.0
PRODID:-//ChamberMaster//Event Calendar 2.0//EN
METHOD:PUBLISH
X-PUBLISHED-TTL:P3D
REFRESH-INTERVAL:P3D
CALSCALE:GREGORIAN
BEGIN:VEVENT
DTSTART:20231017T220000Z
DTEND:20231018T000000Z
X-MICROSOFT-CDO-ALLDAYEVENT:FALSE
SUMMARY:Chamber BASH
DESCRIPTION:Osterhaus Pharmacy Chamber BASH
X-ALT-DESC;FMTTYPE=text/html:Osterhaus Pharmacy Chamber BASH<br />\n&nbsp\;
LOCATION:Osterhaus Pharmacy 918 W. Platt Street Maquoketa\, Iowa 52060
UID:e.3007.15434
SEQUENCE:3
DTSTAMP:20260423T094025Z
URL:https://chamber.maquoketachamber.com/events/details/chamber-bash-15434
END:VEVENT

END:VCALENDAR
