BEGIN:VCALENDAR
VERSION:2.0
PRODID:-//ChamberMaster//Event Calendar 2.0//EN
METHOD:PUBLISH
X-PUBLISHED-TTL:P3D
REFRESH-INTERVAL:P3D
CALSCALE:GREGORIAN
BEGIN:VEVENT
DTSTART:20230729T160000Z
DTEND:20230729T193000Z
X-MICROSOFT-CDO-ALLDAYEVENT:FALSE
SUMMARY:Blood Drive Hosted By Midwest Iron Addicts
DESCRIPTION:Midwest Iron Addicts Gym of Maquoketa will host a community blood drive with ImpactLife\, the provider of blood components for local hospitals. The blood drive will be from 11:00 am to 2:30 pm on Saturday\, July 29 at 18035 Hwy 64\, Maquoketa inside the InpactLife Donor Bus. To donate\, please contact call ImpactLife 800-747-5401\, Austin Bowman at (319) 621 9029 or visit www.bloodcenter.org and use code 5719 to locate the drive. Or click here: https://bit.ly/3XFe5p0 Potential donors must be at least 17 years of age (16 with parental permission form available through www.bloodcenter.org) and weigh more than 110 pounds. A photo I.D. is required to donate. For questions about eligibility\, please call ImpactLife at (800) 747 5401. Donors who last gave blood on or before 6/3/23 are eligible to give at this drive.
X-ALT-DESC;FMTTYPE=text/html:Midwest Iron Addicts Gym of Maquoketa will host a community blood drive with ImpactLife\, the provider of blood components for local hospitals. The blood drive will be from 11:00 am to 2:30 pm on Saturday\, July 29 at 18035 Hwy 64\, Maquoketa inside the InpactLife Donor Bus. To donate\, please contact call ImpactLife 800-747-5401\, Austin Bowman at (319) 621 9029 or visit www.bloodcenter.org and use code 5719 to locate the drive. Or click here: https://bit.ly/3XFe5p0 Potential donors must be at least 17 years of age (16 with parental permission form available through www.bloodcenter.org) and weigh more than 110 pounds. A photo I.D. is required to donate. For questions about eligibility\, please call ImpactLife at (800) 747 5401. Donors who last gave blood on or before 6/3/23 are eligible to give at this drive.
LOCATION:Midwest Iron Addicts Gym/Maquoketa ImpactLife Donor Bus 18035 Hwy 64 Maquoketa
UID:e.3007.15402
SEQUENCE:3
DTSTAMP:20260421T060900Z
URL:https://chamber.maquoketachamber.com/events/details/blood-drive-hosted-by-midwest-iron-addicts-15402
END:VEVENT

END:VCALENDAR
