BEGIN:VCALENDAR
VERSION:2.0
PRODID:-//ChamberMaster//Event Calendar 2.0//EN
METHOD:PUBLISH
X-PUBLISHED-TTL:P3D
REFRESH-INTERVAL:P3D
CALSCALE:GREGORIAN
BEGIN:VEVENT
DTSTART:20230506T170000Z
DTEND:20230506T180000Z
X-MICROSOFT-CDO-ALLDAYEVENT:FALSE
SUMMARY:Bends & Brews @ Maquoketa Brewing
DESCRIPTION:Bends & Brews is heading back to Maquoketa Brewing Saturday\, May 6th!! This beautiful space is perfect for our Saturdaze session. And you're gonna wanna stick around after for one of their delicious pretzels!\n\nPlease be sure to register in advance - space is limited to 20!\n\nGrab your friends\, grab your mat\, grab your beer\, and let's hang in Maquoketa Brewing!\n\n$15 pre-registered (Register on the Facebook event or at bendsandbrews.com).\n\n BYO mat\, or request to borrow one.\n\n 21+
X-ALT-DESC;FMTTYPE=text/html:<div>Bends &amp\; Brews is heading back to Maquoketa Brewing Saturday\, May 6th!! This beautiful space is perfect for our Saturdaze session. And you&rsquo\;re gonna wanna stick around after for one of their delicious pretzels!</div>\n\n<div>Please be sure to register in advance - space is limited to 20!<br />\nGrab your friends\, grab your mat\, grab your beer\, and let&rsquo\;s hang in Maquoketa Brewing!</div>\n\n<div>$15 pre-registered (Register on the Facebook event or at bendsandbrews.com).<br />\n&nbsp\;BYO mat\, or request to borrow one.<br />\n&nbsp\;21+</div>\n
LOCATION:Maquoketa Brewing
UID:e.3007.15228
SEQUENCE:3
DTSTAMP:20260421T060843Z
URL:https://chamber.maquoketachamber.com/events/details/bends-brews-maquoketa-brewing-15228
END:VEVENT

END:VCALENDAR
