BEGIN:VCALENDAR
VERSION:2.0
PRODID:-//ChamberMaster//Event Calendar 2.0//EN
METHOD:PUBLISH
X-PUBLISHED-TTL:P3D
REFRESH-INTERVAL:P3D
CALSCALE:GREGORIAN
BEGIN:VEVENT
DTSTART:20241201T170000Z
DTEND:20250131T220000Z
X-MICROSOFT-CDO-ALLDAYEVENT:FALSE
SUMMARY:Art Work | Eastern Iowa Art Society
DESCRIPTION:Member artists from the Eastern Iowa Art Society (EIAS) will have their work on display at Maquoketa Art Experience during the months of December 2024 thru January 2025. EIAS is a cooperative group interested in gathering and promoting the artistic talent in the Eastern Iowa region from the Quad Cities to Dubuque and from Anamosa to Bellevue. Join the artists for a reception on December 8th from 4:00 to 7:00 pm at Maquoketa Art Experience. The gallery and reception are free and open to the public. Donations are appreciated.
X-ALT-DESC;FMTTYPE=text/html:Member artists from the Eastern Iowa Art Society (EIAS) will have their work on display at Maquoketa Art Experience during the months of December 2024 thru January 2025. EIAS is a cooperative group interested in gathering and promoting the artistic talent in the Eastern Iowa region from the Quad Cities to Dubuque and from Anamosa to Bellevue. Join the artists for a reception on December 8th from 4:00 to 7:00 pm at Maquoketa Art Experience. The gallery and reception are free and open to the public. Donations are appreciated.
LOCATION:Maquoketa Art Experience\, 124 S. Main Street\, Maquoketa
UID:e.3007.17440
SEQUENCE:3
DTSTAMP:20260426T012303Z
URL:https://chamber.maquoketachamber.com/events/details/art-work-eastern-iowa-art-society-17440
END:VEVENT

END:VCALENDAR
