BEGIN:VCALENDAR
VERSION:2.0
PRODID:-//ChamberMaster//Event Calendar 2.0//EN
METHOD:PUBLISH
X-PUBLISHED-TTL:P3D
REFRESH-INTERVAL:P3D
CALSCALE:GREGORIAN
BEGIN:VEVENT
DTSTART:20230624T160000Z
DTEND:20230624T230000Z
X-MICROSOFT-CDO-ALLDAYEVENT:FALSE
SUMMARY:Iowa Grape Vines Winery 10 Year Anniversary
DESCRIPTION:Iowa Grape Vines is celebrating their 10 year Anniversary in Maquoketa. Relax & enjoy some wine\, food\, root beer\, or ice cream! Feel free to bring a lawn chair as seating is limited. Mention our Anniversary on the 24th & get $1 off EA. bottle of wine when you purchase three or more bottles (Excluded with case discount).  Jeronimo's food truck will be serving from 11am -6pm.
X-ALT-DESC;FMTTYPE=text/html:Iowa Grape Vines is celebrating their 10 year Anniversary in Maquoketa. Relax &amp\; enjoy some wine\, food\, root beer\, or ice cream! Feel free to bring a lawn chair as seating is limited. Mention our Anniversary on the 24th &amp\; get $1 off EA. bottle of wine when you purchase three or more bottles (Excluded with case discount).&nbsp\; Jeronimo&#39\;s food truck will be serving from 11am -6pm.&nbsp\;
LOCATION:18345 55th St.\, Maquoketa\, IA\, Corner of Hwy 61 & Caves Road
UID:e.3007.15362
SEQUENCE:3
DTSTAMP:20260421T041834Z
URL:https://chamber.maquoketachamber.com/events/details/10-year-anniversary-15362
END:VEVENT

END:VCALENDAR
